BEGIN:VCALENDAR
VERSION:2.0
PRODID:-//CHARLESTON&#039;S ELITE YOUTH  SOCCER CLUB - ECPv6.15.20//NONSGML v1.0//EN
CALSCALE:GREGORIAN
METHOD:PUBLISH
X-ORIGINAL-URL:https://nosafc.com
X-WR-CALDESC:Events for CHARLESTON&#039;S ELITE YOUTH  SOCCER CLUB
REFRESH-INTERVAL;VALUE=DURATION:PT1H
X-Robots-Tag:noindex
X-PUBLISHED-TTL:PT1H
BEGIN:VTIMEZONE
TZID:UTC
BEGIN:STANDARD
TZOFFSETFROM:+0000
TZOFFSETTO:+0000
TZNAME:UTC
DTSTART:20230101T000000
END:STANDARD
END:VTIMEZONE
BEGIN:VEVENT
DTSTART;TZID=UTC:20241115T080000
DTEND;TZID=UTC:20241116T170000
DTSTAMP:20260424T024220
CREATED:20250325T144755Z
LAST-MODIFIED:20250325T144755Z
UID:4145-1731657600-1731776400@nosafc.com
SUMMARY:NOSA CUP: Mini Team 3v3
DESCRIPTION:Time & Location\n\n\nNov 15\, 2024\, 8:00 AM \nNorth Charleston\, 1455 Monitor St\, North Charleston\, SC 29405\, USA \n\n\n\n\nAbout the event\n\n\n\n3v3 Soccer Tournament for Kids Ages 4-7! ⚽️ \nGet ready for an action-packed weekend of soccer at our exciting 3v3 Tournament designed especially for young players ages 4-7! This event is all about fun\, teamwork\, and skill development\, providing a fantastic introduction to the beautiful game. \nEvent Highlights: \n\n\nSmall-Sided Games: With 3v3 matches\, every child gets plenty of touches on the ball\, enhancing their skills and confidence while playing in a supportive environment. \n\n\nAge-Appropriate Competition: Teams will be organized by age group to ensure fair play and encourage camaraderie among participants. \n\n\nEmphasis on Fun: Our tournament prioritizes enjoyment over competition\, fostering a love for the game and encouraging sportsmanship. \n\n\nMini Skills Challenges: Between matches\, kids can participate in fun skill challenges to win prizes and earn recognition for their efforts! \n\n\n \nJoin us for a memorable weekend filled with laughter\, teamwork\, and the joy of soccer. Whether your child is a seasoned player or new to the game\, this tournament is the perfect opportunity to learn\, play\, and make lasting memories! \n🔗 Register now to secure your team’s spot! \nGot a team of 3 or more players\, then this is for you. \nLet’s kick off an unforgettable weekend of soccer together!
URL:https://nosafc.com/event/nosa-cup-mini-team-3v3/
ATTACH;FMTTYPE=image/webp:https://nosafc.com/wp-content/uploads/2025/03/9e9f2a_5397a9b697be489191fae30d88d6b092mv2.webp
END:VEVENT
END:VCALENDAR