BEGIN:VCALENDAR
VERSION:2.0
PRODID:-//CHARLESTON&#039;S ELITE YOUTH  SOCCER CLUB - ECPv6.15.20//NONSGML v1.0//EN
CALSCALE:GREGORIAN
METHOD:PUBLISH
X-WR-CALNAME:CHARLESTON&#039;S ELITE YOUTH  SOCCER CLUB
X-ORIGINAL-URL:https://nosafc.com
X-WR-CALDESC:Events for CHARLESTON&#039;S ELITE YOUTH  SOCCER CLUB
REFRESH-INTERVAL;VALUE=DURATION:PT1H
X-Robots-Tag:noindex
X-PUBLISHED-TTL:PT1H
BEGIN:VTIMEZONE
TZID:UTC
BEGIN:STANDARD
TZOFFSETFROM:+0000
TZOFFSETTO:+0000
TZNAME:UTC
DTSTART:20200101T000000
END:STANDARD
END:VTIMEZONE
BEGIN:VEVENT
DTSTART;TZID=UTC:20250623T173000
DTEND;TZID=UTC:20250626T190000
DTSTAMP:20260422T215930
CREATED:20250512T221013Z
LAST-MODIFIED:20250512T224907Z
UID:4482-1750699800-1750964400@nosafc.com
SUMMARY:Soccer Goalkeeper Training
DESCRIPTION:🏆 SOCCER GOALKEEPER TRAINING CAMP 🥅📍 Hosted by NOSA Football Club \nAre you ready to take your goalkeeping skills to the next level? Join us for our expert-led Soccer Goalkeeper Training designed to develop young athletes into confident and capable shot-stoppers! \n🔹 Training Highlights:✅ Specialized Goalkeeper Coaching✅ Improve Key Skills✅ Boost Confidence & Decision-Making✅ Build Fitness & Agility \n📅 Dates: June 23rd – 26th\, 2025⏰ Time: 5:30 PM – 7:00 PM Daily📍 Location: 1455 Monitor Street\, North Charleston \nFee: $250\n👥 Open to young goalkeepers of all levels looking to improve their game in a supportive\, energetic environment. \n🎯 Don’t miss this opportunity to train with the best and be your team’s next MVP! \n  \n\n\n\n\nSoccer Goalkeeper Training\n\n\n\n\n\n\n\n\nParent/Guardian Information\n\n\n    Name\n        *\n    \n    \n    First\n    \n\n\n    Last Name\n        *\n    \n    \n    Last\n    \n\n\n    Email\n        \n    \n    \n    \n    \n\n\n    Phone\n        \n    \n    \n    \n    \n\n\n    Address\n        \n    \n    \n\n	Address\n\n\n	\n		Address	\n		\n	\n\n	\n		Address	\n		\n	\n\n	\n		City	\n		\n	City\n\n	\n		State/Province	\n		\n	State/Province\n\n	\n		Zip/Postal	\n		\n	Zip/Postal\n\n	\n		Country	\n			\n			\n				 			\n			AfghanistanAland IslandsAlbaniaAlgeriaAmerican SamoaAndorraAngolaAnguillaAntarcticaAntigua and BarbudaArgentinaArmeniaArubaAustraliaAustriaAzerbaijanBahamasBahrainBangladeshBarbadosBelarusBelgiumBelizeBeninBermudaBhutanBoliviaBonaire\, Sint Eustatius and SabaBosnia and HerzegovinaBotswanaBouvet IslandBrazilBritish Indian Ocean TerritoryBruneiBulgariaBurkina FasoBurundiCôte d'IvoireCambodiaCameroonCanadaCape VerdeCayman IslandsCentral African RepublicChadChileChinaChristmas IslandCocos (Keeling) IslandsColombiaComorosCongoCook IslandsCosta RicaCroatiaCubaCuracaoCyprusCzech RepublicDenmarkDjiboutiDominicaDominican RepublicEast TimorEcuadorEgyptEl SalvadorEquatorial GuineaEritreaEstoniaEthiopiaFalkland Islands (Malvinas)Faroe IslandsFijiFinlandFranceFrench GuianaFrench PolynesiaFrench Southern TerritoriesGabonGambiaGeorgiaGermanyGhanaGibraltarGreeceGreenlandGrenadaGuadeloupeGuamGuatemalaGuernseyGuineaGuinea-BissauGuyanaHaitiHeard Island and McDonald IslandsHoly SeeHondurasHong KongHungaryIcelandIndiaIndonesiaIranIraqIrelandIsle of ManIsraelItalyJamaicaJapanJerseyJordanKazakhstanKenyaKiribatiKosovoKuwaitKyrgyzstanLaosLatviaLebanonLesothoLiberiaLibyaLiechtensteinLithuaniaLuxembourgMacaoMacedoniaMadagascarMalawiMalaysiaMaldivesMaliMaltaMarshall IslandsMartiniqueMauritaniaMauritiusMayotteMexicoMicronesiaMoldovaMonacoMongoliaMontenegroMontserratMoroccoMozambiqueMyanmarNamibiaNauruNepalNetherlandsNew CaledoniaNew ZealandNicaraguaNigerNigeriaNiueNorfolk IslandNorth KoreaNorthern Mariana IslandsNorwayOmanPakistanPalauPalestinePanamaPapua New GuineaParaguayPeruPhilippinesPitcairnPolandPortugalPuerto RicoQatarReunionRomaniaRussiaRwandaSaint BarthelemySaint Helena\, Ascension and Tristan da CunhaSaint Kitts and NevisSaint LuciaSaint Martin (French part)Saint Pierre and MiquelonSaint Vincent and the GrenadinesSamoaSan MarinoSao Tome and PrincipeSaudi ArabiaSenegalSerbiaSeychellesSierra LeoneSingaporeSint Maarten (Dutch part)SlovakiaSloveniaSolomon IslandsSomaliaSouth AfricaSouth Georgia and the South Sandwich IslandsSouth KoreaSouth SudanSpainSri LankaSudanSurinameSvalbard and Jan MayenSwazilandSwedenSwitzerlandSyriaTaiwanTajikistanTanzaniaThailandTimor-LesteTogoTokelauTongaTrinidad and TobagoTunisiaTurkeyTurkmenistanTurks and Caicos IslandsTuvaluUgandaUkraineUnited Arab EmiratesUnited KingdomUnited StatesUnited States Minor Outlying IslandsUruguayUzbekistanVanuatuVatican CityVenezuelaVietnamVirgin Islands\, BritishVirgin Islands\, U.S.Wallis and FutunaWestern SaharaYemenZambiaZimbabwe		\n	Country\n\n\n\n    \n    \n\n\nChild Information\n\n\n			\n\n    Name\n        *\n    \n    \n    \n    \n\n\n    Last\n        *\n    \n    \n    \n    \n\n\n    Date of Birth\n        \n    \n    \n    \n    \n\n\n    Grade\n        \n    \n    		\n		1st Grade2nd Grade3rd Grade4th Grade5th Grade6th Grade7th Grade8th Grade	\n	\n    \n    \n\n\n    Name of School\n        \n    \n    \n    \n    \n\n\n    Gender\n        *\n    \n    					\n					 Male\n					\n					 Female\n					\n					 Other\n					\n					 Prefer not to say\n\n    \n    \n\n\n    Allergies?\n        *\n    \n    					\n					 Yes\n					\n					 No\n\n    \n    \n\n\n    Describe Allergies\n        \n    \n    \n    \n    \n\n\n	plus1\n	\n\n Add Child\n\n	minus1\n	\n\n Remove \n\n\n\n	Payment Method\n		*\n	\n	\n\nlogo\n\nacf-forms\nactivecampaign\n\n\nauthorize\naweber\nbootstrap\ncampaignmonitor\nconstant_contact\ngetresponse\ngooglesheets\nhighrise\nhubspot\nmailchimp\nmailpoet\npaypal icon\npolylang\nsalesforce\nsalesforcealt\nstripe\nstripealt\ntwilio\nwoocommerce\nZapier\n\nrequired\ndelete\nmove\n\nclear\nnoclear\nduplicate\ncopy\nclone\ntooltip\ntooltip_solid\nforbid\ncheckmark\nimage\ncheckmark circle\ncheckmark square\ncheck\ncheck1\n\nplus\nplus1\nplus2\nplus3\nplus4\nminus\nminus1\nminus2\nminus3\nminus4\ncancel\ncancel1\n\nreport_problem_solid\nreport_problem\narrowup\narrowup1\narrowup2\narrowup3\narrowup4\narrowup5\narrowup5_solid\narrowup7\narrowup6\narrowup8\narrowdown\narrowdown1\narrowdown2\narrowdown3\narrowdown4\narrowdown5\narrowdown5_solid\narrowdown7\narrowdown6\n\narrow_left\narrow_right\nfilter\ndownload\n\nupload2\n\ndownload2\n\nhard_drive\npencil_solid\npencil\n\npencil-message\n\nsignature\n\n\n\nregister\naccount_circle_solid\naccount_circle\naddress_card\nparagraph\ncheckbox_unchecked\ncheckbox\ncheckbox_solid\ndropdown\ncaret_square_down\n\nradio_unchecked\n\nscrubber\nlocation_solid\nlocation\n\n\ntoggle_off\nshield_check\n\nshield_check_solid\n\nclock_solid\n\n\n\n\nemail_solid\n\nmail_bulk\n\n\n\n\ncode\n\ntag\ntag_solid\nprice_tags\n\nsearch\n\n\nfile\nfile_text_solid\nfile_text\n\n\noption\noption_solid\nmore_horiz\nmore_vert\nmore_horiz_solid\nmore_vert_solid\ncalculator\nkey\nkey\nFilled Key Icon\nkeyboard\neye\neye_solid\n\n\neye_slash_solid\n\nview_day\nattach_file\nprinter\n\nh1\nrepeat\nrepeater\n\n\nsave\nsliders\n\nstar\n\nstar_full\nstar_half\nstar_feedback\n\npie_chart\nstats_bars\nsms\nfeed\n\nalign_left\nbutton\nbrowser\ncloud_upload_solid\nshuffle\nswap\npallet\nfingerprint\nghost\nheart_solid\nheart\nhistory\nimport\nexport\nlabel_solid\nlabel\nlock_open\nlock\nalt_lock\n\n\n\ndollar_sign\npercent\nnotification\nexternal_link\npageview_solid\npageview\nsettings\nstamp\nsupport\ntext\n\nwhite_label\nbuilding\nicontact\nsendinblue\nsendy\nwordpress\ncredit_card\n\ncredit_card_alt\ncc_amex\ncc_discover\ncc_mastercard\ncc_visa\ncc_paypal icon\ncc_stripe\n\n\n\n\nprice\nproduct\n\ntotal\n\n\ndirectory\n\nPreview\n\n\n\n\n\n\n\n\n\n\n\n\n\n\n\n\n\n\n\n\n\n\n\n\n\n\n\n\n\n\n\n\n\n\n\n\n\n\n\n\n\n\n\n\n\n\n\n\n\n\n\n\n\n\n\n\n\n\n\n\n\n\n\n\n\n\n\n\n\n\n\n\n\n\n\n		 In-Person Payment\n		 Online Payment\n\n	\n	\n\n\nIn-Person Payment Instructions: \nPlease bring the exact amount in cash to the event venue on June 23rd – 26th\, 2025. Our registration desk will be open from Mondays through Thursdays\, 5:30 PM - 7:00 PM. \nEnsure you arrive early to complete your payment and receive your entry pass. \n\n\n\n	\n			\n			\n				If you are human\, leave this field blank.			\n			\n		\n		\n\nNext\n\n\n\n\n\nΔ
URL:https://nosafc.com/event/soccer-goalkeeper-training/
LOCATION:1455 Monitor street\, North Charleston\, 1455 Monitor street\, North Charleston\, North Charleston\, Califonia\, 1455\, United States
ATTACH;FMTTYPE=image/jpeg:https://nosafc.com/wp-content/uploads/2025/05/IMG_0444-scaled.jpg
END:VEVENT
BEGIN:VEVENT
DTSTART;VALUE=DATE:20250601
DTEND;VALUE=DATE:20250602
DTSTAMP:20260422T215930
CREATED:20250325T112544Z
LAST-MODIFIED:20250511T133055Z
UID:4100-1748736000-1748822399@nosafc.com
SUMMARY:NOSAFC Summer Off-Season Training
DESCRIPTION:📅 Dates: June 2nd – 19th\, 2025🕔 Time: Mondays through Thursdays\, 5:30 PM – 7:00 PM👧👦 Ages: Boys & Girls\, 4–14 years💲 Fees: \n\nOne-Week Program – $129.01Secure Your Spot\n2-Weeks Program – $257.74Secure Your Spot\nFull Camp 3-Weeks Program – $360.74Secure Your Spot\n\n  \n📍 Venue:\nJenkins Youth & Family Village\n3923 Azalea Drive\nNorth Charleston\, SC 29405 \nJoin NOSA FC’s Summer Soccer Camp 2025 for an exciting opportunity to enhance your soccer skills\, make new friends\, and have fun! Our experienced coaches are dedicated to providing a supportive environment where young athletes can develop their abilities and passion for the game. \n📝 Registration\nSecure your spot today! For more information and to register: \n\nPlease fill the form below\nPlease enable JavaScript in your browser to complete this form.Please enable JavaScript in your browser to complete this form.Name *FirstLastDate of BirthAgeAddressAddress Line 1Address Line 2City--- Select state ---AlabamaAlaskaArizonaArkansasCaliforniaColoradoConnecticutDelawareDistrict of ColumbiaFloridaGeorgiaHawaiiIdahoIllinoisIndianaIowaKansasKentuckyLouisianaMaineMarylandMassachusettsMichiganMinnesotaMississippiMissouriMontanaNebraskaNevadaNew HampshireNew JerseyNew MexicoNew YorkNorth CarolinaNorth DakotaOhioOklahomaOregonPennsylvaniaRhode IslandSouth CarolinaSouth DakotaTennesseeTexasUtahVermontVirginiaWashingtonWest VirginiaWisconsinWyomingStateZip CodeParents Name		\n			Payment Parents Date\n			\n		\n		PhoneEmail *Payment MethodIn-Person PaymentOnline PaymentIn-Person Payment Instructions: \nPlease bring the exact amount in cash to the event venue on June 2nd - 19th\, 2025. Our registration desk will be open from Mondays through Thursdays\, 5:30 PM - 7:00 PM. \nEnsure you arrive early to complete your payment and receive your entry pass. \nRegister  \nDon’t miss out on this fantastic summer experience with NOSA FC!
URL:https://nosafc.com/event/summer-development-program/
ATTACH;FMTTYPE=image/jpeg:https://nosafc.com/wp-content/uploads/2025/03/Snapinst.app_467570314_18208326721294556_900495514594750444_n_1080-1.jpg
ORGANIZER;CN="Tryouts for 2025/2026 season":MAILTO:nosafootballclub@gmail.com
END:VEVENT
BEGIN:VEVENT
DTSTART;TZID=UTC:20250505T173000
DTEND;TZID=UTC:20250508T190000
DTSTAMP:20260422T215930
CREATED:20250325T111608Z
LAST-MODIFIED:20260323T122608Z
UID:4097-1746466200-1746730800@nosafc.com
SUMMARY:Tryouts for 2025/2026 Season
DESCRIPTION:At NOSA\, we believe in more than just playing the game. We focus on creating disciplined athletes who are not only skilled on the field but also embody the core principles of life – teamwork\, respect\, dedication and perseverance. \n  \nMay 5th-8th\, 2025\nTuesday & Thursdays: 4 – 8years\nMondays & Wednesdays: 9 – 14years \nTime: 5:30pm-7pm daily \nVenue: 1455 Monitor street\, North Charleston \nOpened to Boys & Girls \n$25 \nSign up: Text “Tryouts” to 843.460.5466 \n  \nPlease fill the form below to Register\nPlease enable JavaScript in your browser to complete this form.Please enable JavaScript in your browser to complete this form.Name *FirstLastDate of BirthAgeAddressAddress Line 1Address Line 2City--- Select state ---AlabamaAlaskaArizonaArkansasCaliforniaColoradoConnecticutDelawareDistrict of ColumbiaFloridaGeorgiaHawaiiIdahoIllinoisIndianaIowaKansasKentuckyLouisianaMaineMarylandMassachusettsMichiganMinnesotaMississippiMissouriMontanaNebraskaNevadaNew HampshireNew JerseyNew MexicoNew YorkNorth CarolinaNorth DakotaOhioOklahomaOregonPennsylvaniaRhode IslandSouth CarolinaSouth DakotaTennesseeTexasUtahVermontVirginiaWashingtonWest VirginiaWisconsinWyomingStateZip CodeParents Name		\n			Phone Parents Birth\n			\n		\n		PhoneEmail *Register
URL:https://nosafc.com/event/tryouts-for-2025-2026-season/
LOCATION:1455 Monitor street\, North Charleston\, 1455 Monitor street\, North Charleston\, North Charleston\, Califonia\, 1455\, United States
ATTACH;FMTTYPE=image/jpeg:https://nosafc.com/wp-content/uploads/2025/03/Snapinst.app_467873592_18209255584294556_3848503093213016950_n_1080.jpg
ORGANIZER;CN="Tryouts for 2025/2026 season":MAILTO:nosafootballclub@gmail.com
END:VEVENT
BEGIN:VEVENT
DTSTART;TZID=UTC:20241115T080000
DTEND;TZID=UTC:20241116T170000
DTSTAMP:20260422T215930
CREATED:20250325T144755Z
LAST-MODIFIED:20250325T144755Z
UID:4145-1731657600-1731776400@nosafc.com
SUMMARY:NOSA CUP: Mini Team 3v3
DESCRIPTION:Time & Location\n\n\nNov 15\, 2024\, 8:00 AM \nNorth Charleston\, 1455 Monitor St\, North Charleston\, SC 29405\, USA \n\n\n\n\nAbout the event\n\n\n\n3v3 Soccer Tournament for Kids Ages 4-7! ⚽️ \nGet ready for an action-packed weekend of soccer at our exciting 3v3 Tournament designed especially for young players ages 4-7! This event is all about fun\, teamwork\, and skill development\, providing a fantastic introduction to the beautiful game. \nEvent Highlights: \n\n\nSmall-Sided Games: With 3v3 matches\, every child gets plenty of touches on the ball\, enhancing their skills and confidence while playing in a supportive environment. \n\n\nAge-Appropriate Competition: Teams will be organized by age group to ensure fair play and encourage camaraderie among participants. \n\n\nEmphasis on Fun: Our tournament prioritizes enjoyment over competition\, fostering a love for the game and encouraging sportsmanship. \n\n\nMini Skills Challenges: Between matches\, kids can participate in fun skill challenges to win prizes and earn recognition for their efforts! \n\n\n \nJoin us for a memorable weekend filled with laughter\, teamwork\, and the joy of soccer. Whether your child is a seasoned player or new to the game\, this tournament is the perfect opportunity to learn\, play\, and make lasting memories! \n🔗 Register now to secure your team’s spot! \nGot a team of 3 or more players\, then this is for you. \nLet’s kick off an unforgettable weekend of soccer together!
URL:https://nosafc.com/event/nosa-cup-mini-team-3v3/
ATTACH;FMTTYPE=image/webp:https://nosafc.com/wp-content/uploads/2025/03/9e9f2a_5397a9b697be489191fae30d88d6b092mv2.webp
END:VEVENT
BEGIN:VEVENT
DTSTART;VALUE=DATE:20240603
DTEND;VALUE=DATE:20240604
DTSTAMP:20260422T215930
CREATED:20250325T144604Z
LAST-MODIFIED:20250325T144604Z
UID:4146-1717372800-1717459199@nosafc.com
SUMMARY:Summer Soccer Camp 2024
DESCRIPTION:Time & Location\n\n\nJun 03\, 2024\, 5:30 PM – Jul 17\, 2024\, 7:00 PM \nNorth Charleston\, 1455 Monitor St\, North Charleston\, SC 29405\, USA \n\n\n\n\nAbout the event\n\n\nOur Summer Soccer Camp is here! \nIt promises to be an amazing session that is focused on building necessary skills to understand and enjoy soccer better. It will be filled with games\, fun\, learning techniques and tactics you won’t get anywhere else. Come and see for yourself. \n  \nALL YOU NEED TO KNOW: \nThe Camp is in two phases\, one in June and the other in July. You can register for both or just one camp. Weekly registration is also available. \n​ \nJune Camp: \nThe first phase of the Camp in June runs for 3 weeks\, starting Monday 3rd to Thursday 20th of June. Time is from 5:30pm-7pm. The cost for this month is $420. \n​ \nJuly Camp: \nThe second phase of the Summer Camp runs in July from Monday 1st to Thursday 18th of July 2024. For the first week\, due to the Independence celebration on the 4th\, we will have a makeup on Friday 5th instead. Time is 5:30pm-7pm daily. \n​ \nLocation: \nDanny Jones Field 1455 Monitor Street North Charleston SC 29405 \n​ \nRegular Price: \nFull Camp for June and July: $800 \nJune or July only: $420 \nTwo weeks only: $300 \none week only: $150 \n​ \nHave two or more kids coming in for the camp\, you get a sibling discount. Please request via email or text for the siblings discount. \n​ \nEARLY BIRD REGISTRATION OPEN TILL APRIL 30TH \nFULL CAMP (June & July): $750 \nONE MONTH: $400 \n​ \nPlease fill the form and we will reach out to you and can’t wait to see you at camp.
URL:https://nosafc.com/event/summer-soccer-camp-2024/
ATTACH;FMTTYPE=image/webp:https://nosafc.com/wp-content/uploads/2025/03/9e9f2a_046ec90a92ab4137a2ed5ba5c6c0f6famv2.webp
END:VEVENT
BEGIN:VEVENT
DTSTART;TZID=UTC:20211213T080000
DTEND;TZID=UTC:20211213T170000
DTSTAMP:20260422T215930
CREATED:20211213T144054Z
LAST-MODIFIED:20250325T144406Z
UID:4140-1639382400-1639414800@nosafc.com
SUMMARY:Holiday Soccer Camp Juniors
DESCRIPTION:Time & Location\n\n\nDec 13\, 2021\, 5:00 PM – Dec 23\, 2021\, 6:30 PM \nNorth Charleston\, 1455 Monitor St\, North Charleston\, SC 29405\, USA \n\n\n\n\nAbout the event\n\n\n\nGet your kids in for this intense and fun soccer camp sessions. You’ll be glad you did. \nThis event will run from the 13th to 23rd of December 2021\, Monday to Thursday at 5:00pm to 6:30 pm daily.  \nIt promises to be super fun\, intense and yet full of a lot of learnings for your kids. \nThe cost for this event is $120 per kid and its due on the day of the event. \nWe would love to have you\, so do register now. \nSee you and be sure to spread the word and link. \nStay blessed.
URL:https://nosafc.com/event/holiday-soccer-camp-juniors/
ATTACH;FMTTYPE=image/webp:https://nosafc.com/wp-content/uploads/2025/03/9e9f2a_d6f0adba26c54979b25ccd2248b73176mv2.webp
END:VEVENT
END:VCALENDAR