BEGIN:VCALENDAR
VERSION:2.0
PRODID:-//CHARLESTON&#039;S ELITE YOUTH  SOCCER CLUB - ECPv6.15.20//NONSGML v1.0//EN
CALSCALE:GREGORIAN
METHOD:PUBLISH
X-WR-CALNAME:CHARLESTON&#039;S ELITE YOUTH  SOCCER CLUB
X-ORIGINAL-URL:https://nosafc.com
X-WR-CALDESC:Events for CHARLESTON&#039;S ELITE YOUTH  SOCCER CLUB
REFRESH-INTERVAL;VALUE=DURATION:PT1H
X-Robots-Tag:noindex
X-PUBLISHED-TTL:PT1H
BEGIN:VTIMEZONE
TZID:UTC
BEGIN:STANDARD
TZOFFSETFROM:+0000
TZOFFSETTO:+0000
TZNAME:UTC
DTSTART:20240101T000000
END:STANDARD
END:VTIMEZONE
BEGIN:VEVENT
DTSTART;TZID=UTC:20250623T173000
DTEND;TZID=UTC:20250626T190000
DTSTAMP:20260423T153740
CREATED:20250512T221013Z
LAST-MODIFIED:20250512T224907Z
UID:4482-1750699800-1750964400@nosafc.com
SUMMARY:Soccer Goalkeeper Training
DESCRIPTION:🏆 SOCCER GOALKEEPER TRAINING CAMP 🥅📍 Hosted by NOSA Football Club \nAre you ready to take your goalkeeping skills to the next level? Join us for our expert-led Soccer Goalkeeper Training designed to develop young athletes into confident and capable shot-stoppers! \n🔹 Training Highlights:✅ Specialized Goalkeeper Coaching✅ Improve Key Skills✅ Boost Confidence & Decision-Making✅ Build Fitness & Agility \n📅 Dates: June 23rd – 26th\, 2025⏰ Time: 5:30 PM – 7:00 PM Daily📍 Location: 1455 Monitor Street\, North Charleston \nFee: $250\n👥 Open to young goalkeepers of all levels looking to improve their game in a supportive\, energetic environment. \n🎯 Don’t miss this opportunity to train with the best and be your team’s next MVP! \n  \n\n\n\n\nSoccer Goalkeeper Training\n\n\n\n\n\n\n\n\nParent/Guardian Information\n\n\n    Name\n        *\n    \n    \n    First\n    \n\n\n    Last Name\n        *\n    \n    \n    Last\n    \n\n\n    Email\n        \n    \n    \n    \n    \n\n\n    Phone\n        \n    \n    \n    \n    \n\n\n    Address\n        \n    \n    \n    \n    \n\n\nChild Information\n\n\n\n\n    Name\n        *\n    \n    \n    \n    \n\n\n    Last\n        *\n    \n    \n    \n    \n\n\n    Date of Birth\n        \n    \n    \n    \n    \n\n\n    Grade\n        \n    \n    		\n		1st Grade2nd Grade3rd Grade4th Grade5th Grade6th Grade7th Grade8th Grade	\n	\n    \n    \n\n\n    Name of School\n        \n    \n    \n    \n    \n\n\n    Gender\n        *\n    \n    					\n					 Male\n					\n					 Female\n					\n					 Other\n					\n					 Prefer not to say\n\n    \n    \n\n\n    Allergies?\n        *\n    \n    					\n					 Yes\n					\n					 No\n\n    \n    \n\n\n    Describe Allergies\n        \n    \n    \n    \n    \n\n\n	Section Buttons\n		\n	\n	\n	\n	\n\n\n	Payment Method\n		*\n	\n						\n					 In-Person Payment\n					\n					 Online Payment\n\n	\n	\n\n\nIn-Person Payment Instructions: \nPlease bring the exact amount in cash to the event venue on June 23rd – 26th\, 2025. Our registration desk will be open from Mondays through Thursdays\, 5:30 PM - 7:00 PM. \nEnsure you arrive early to complete your payment and receive your entry pass. \n\n\n	Next\n		\n	\n	\n	\n	\n\n\n	Review Information\n	\n    \n\n\n	\n\nSubmit\n\n\n\n	\n			\n			\n				If you are human\, leave this field blank.			\n			\n		\n		\n\n\n\nΔ
URL:https://nosafc.com/event/soccer-goalkeeper-training/
LOCATION:1455 Monitor street\, North Charleston\, 1455 Monitor street\, North Charleston\, North Charleston\, Califonia\, 1455\, United States
ATTACH;FMTTYPE=image/jpeg:https://nosafc.com/wp-content/uploads/2025/05/IMG_0444-scaled.jpg
END:VEVENT
BEGIN:VEVENT
DTSTART;TZID=UTC:20260504T180000
DTEND;TZID=UTC:20260516T190000
DTSTAMP:20260423T153740
CREATED:20260323T123312Z
LAST-MODIFIED:20260323T123806Z
UID:4544-1777917600-1778958000@nosafc.com
SUMMARY:Soccer Tryouts for Academy Players
DESCRIPTION:Got skills? Got passion? This is your moment.\nStep onto the field and show what you’re made of 💪 \nNOSA Football Club is calling on young talents ready to train\, grow\, and compete at a higher level. Whether you’re just starting or already balling\, this is your chance to be seen and selected for the academy. \nDate: May 4 – May 16\, 2026\nFee: $25 \nAges 7–14\nMon\, Wed & Fri\n6 PM – 7 PM \nAges 4–6\nTue & Thu (6 PM – 7 PM)\nSat (10 AM – 11 AM) \n📍 Venue: 5501 Dorchester Rd\, North Charleston\, SC 29418 \nThis isn’t just a tryout…\nIt’s where future stars are discovered ⭐ \nCome ready. Come focused. Come hungry. \n📞 Sign up: Text “Tryouts” to 843.460.5466 \nPlease fill the form below to Register\nPlease enable JavaScript in your browser to complete this form.Please enable JavaScript in your browser to complete this form.Name *FirstLast		\n			Birth Phone Name\n			\n		\n		Date of BirthAgeAddressAddress Line 1Address Line 2City--- Select state ---AlabamaAlaskaArizonaArkansasCaliforniaColoradoConnecticutDelawareDistrict of ColumbiaFloridaGeorgiaHawaiiIdahoIllinoisIndianaIowaKansasKentuckyLouisianaMaineMarylandMassachusettsMichiganMinnesotaMississippiMissouriMontanaNebraskaNevadaNew HampshireNew JerseyNew MexicoNew YorkNorth CarolinaNorth DakotaOhioOklahomaOregonPennsylvaniaRhode IslandSouth CarolinaSouth DakotaTennesseeTexasUtahVermontVirginiaWashingtonWest VirginiaWisconsinWyomingStateZip CodeParents NamePhoneEmail *Register
URL:https://nosafc.com/event/soccer-tryouts-for-academy-players/
LOCATION:5501 Dorchester Rd\, North Charleston\, SC 29418\, 5501 Dorchester Rd\, North Charleston\, SC 29418\, North Charleston\, SC\, 5501\, United States
ATTACH;FMTTYPE=image/jpeg:https://nosafc.com/wp-content/uploads/2026/03/Snapinst.app_382823138_1058394572199515_1223866666172822525_n_1080.jpg
END:VEVENT
BEGIN:VEVENT
DTSTART;TZID=UTC:20260706T170000
DTEND;TZID=UTC:20260723T170000
DTSTAMP:20260423T153740
CREATED:20260330T095807Z
LAST-MODIFIED:20260401T174800Z
UID:4549-1783357200-1784826000@nosafc.com
SUMMARY:NOSA FC Summer Camp 2026
DESCRIPTION:NOSA FC Summer Camp is the perfect place for young players to improve their skills\, build confidence\, stay active\, and make new friends. Whether your child is just starting out or already loves the game\, our coaches will help them grow in a positive and exciting environment. \nJuly 6 – July 23\, 2026\nMondays through Thursdays\n5:30 PM daily \nAges 4–14 years \n📍 Exchange Park\n1455 Monitor Street\, North Charleston\, SC 29405 \n💲 Camp Fee: $400 \nPlayers will enjoy:\n⚽ Skill training and development\n⚽ Fun drills and games\n⚽ Teamwork and confidence building\n⚽ A safe\, energetic football environment \nSpots are limited\, so register early and make this summer one to remember! \n📞 Sign up: Text “Tryouts” to 843.460.5466 \nPlease fill the form below to Register\nPlease enable JavaScript in your browser to complete this form.Please enable JavaScript in your browser to complete this form.Name *FirstLastDate of BirthAgeAddressAddress Line 1Address Line 2City--- Select state ---AlabamaAlaskaArizonaArkansasCaliforniaColoradoConnecticutDelawareDistrict of ColumbiaFloridaGeorgiaHawaiiIdahoIllinoisIndianaIowaKansasKentuckyLouisianaMaineMarylandMassachusettsMichiganMinnesotaMississippiMissouriMontanaNebraskaNevadaNew HampshireNew JerseyNew MexicoNew YorkNorth CarolinaNorth DakotaOhioOklahomaOregonPennsylvaniaRhode IslandSouth CarolinaSouth DakotaTennesseeTexasUtahVermontVirginiaWashingtonWest VirginiaWisconsinWyomingStateZip CodeParents NamePhone		\n			Address Name Parents\n			\n		\n		Email *Register
URL:https://nosafc.com/event/nosa-fc-summer-camp-2026/
ATTACH;FMTTYPE=image/jpeg:https://nosafc.com/wp-content/uploads/2026/03/WhatsApp-Image-2026-04-01-at-3.36.13-PM.jpeg
END:VEVENT
END:VCALENDAR